BEGIN:VCALENDAR
VERSION:2.0
PRODID:-//3rd i - ECPv6.15.17//NONSGML v1.0//EN
CALSCALE:GREGORIAN
METHOD:PUBLISH
X-ORIGINAL-URL:https://www.thirdi.org
X-WR-CALDESC:Events for 3rd i
REFRESH-INTERVAL;VALUE=DURATION:PT1H
X-Robots-Tag:noindex
X-PUBLISHED-TTL:PT1H
BEGIN:VTIMEZONE
TZID:America/Los_Angeles
BEGIN:DAYLIGHT
TZOFFSETFROM:-0800
TZOFFSETTO:-0700
TZNAME:PDT
DTSTART:20210314T100000
END:DAYLIGHT
BEGIN:STANDARD
TZOFFSETFROM:-0700
TZOFFSETTO:-0800
TZNAME:PST
DTSTART:20211107T090000
END:STANDARD
BEGIN:DAYLIGHT
TZOFFSETFROM:-0800
TZOFFSETTO:-0700
TZNAME:PDT
DTSTART:20220313T100000
END:DAYLIGHT
BEGIN:STANDARD
TZOFFSETFROM:-0700
TZOFFSETTO:-0800
TZNAME:PST
DTSTART:20221106T090000
END:STANDARD
BEGIN:DAYLIGHT
TZOFFSETFROM:-0800
TZOFFSETTO:-0700
TZNAME:PDT
DTSTART:20230312T100000
END:DAYLIGHT
BEGIN:STANDARD
TZOFFSETFROM:-0700
TZOFFSETTO:-0800
TZNAME:PST
DTSTART:20231105T090000
END:STANDARD
END:VTIMEZONE
BEGIN:VEVENT
DTSTART;TZID=America/Los_Angeles:20220923T191500
DTEND;TZID=America/Los_Angeles:20220923T191500
DTSTAMP:20260425T080952
CREATED:20220824T085233Z
LAST-MODIFIED:20230812T180725Z
UID:6272-1663960500-1663960500@www.thirdi.org
SUMMARY:FOUR SAMOSAS
DESCRIPTION:See only at the Roxie Theater\, not available online.\nFilmmaker/actor Ravi Kapoor and actor Venk Potula in person for Q&A!!\nCalifornia Premiere\nWritten and directed by Ravi Kapoor (Miss India America)\, this fun romantic comedy affectionately incorporates Indian cultural ideals into an American heist movie genre\, creating a mixture or “masala” reviewed as the most unique film to come out of this year’s Tribeca Film Festival.  \nShot in vibrant\, saturated color reminiscent of Wes Anderson\, the narrative brims with scrappy\, indie-spirit in which underachieving wanna-be rapper Vinny and his neighborhood pals plan to disrupt his ex-girlfriend’s wedding by stealing her family’s jewels from a supermarket safe. \nCentered in “Little India” in Artesia\, California\, the comedy taps into the various aspects of the customs and the food in the area. Through the film’s nuanced and whimsical plot\, the characters celebrate various aspects of South Asian American culture with their infectious spirit.
URL:https://www.thirdi.org/event/four-samosas/
LOCATION:Roxie Theater\, 3117 16th Street\, San Francisco\, CA\, 94103\, United States
CATEGORIES:2022,festivals,films,Past Festival Screenings and Events
ATTACH;FMTTYPE=image/jpeg:https://www.thirdi.org/wp-content/uploads/2022/08/Four-SamosasWebsize.jpg
END:VEVENT
BEGIN:VEVENT
DTSTART;TZID=America/Los_Angeles:20220924T130000
DTEND;TZID=America/Los_Angeles:20220924T130000
DTSTAMP:20260425T080952
CREATED:20220811T063755Z
LAST-MODIFIED:20230812T180726Z
UID:6238-1664024400-1664024400@www.thirdi.org
SUMMARY:Adieu Godard
DESCRIPTION:See only at the Castro Theatre\, not available online.\nIn this wry\, arthouse dark comedy\,  director Amartya Bhattacharyya pays homage to and draws inspiration from his favorite filmmaker\, the legendary auteur Jean-Luc Godard and his early 1960s French New wave films. \nThe elderly Ananda lives in a small village in the rural backdrop of Odisha in northeastern India. He has the reputation of being the village pervert for his obsession with porn\, buying DVDs from a local seller and organizing frequent viewing parties with his friends\, while ignoring the visible disdain of his wife and daughter. Things go awry for Ananda when his supplier\, in a comical mistake\, gives him a DVD of Godard’s Breathless\, branding it as a “French pornographic film.” \nIgnoring his friends’ derision for the lack of nudity and sex\, with Breathless\, Ananda grows enamored with Godard films\, so much so that he decides to hold a film festival of Godard’s films in the village. \nAdieu Godard provides a critical commentary on the conventions of commercial cinema. \nBhattacharyya’s narrative technique of Godard vs. porn sets up the debate of cinema as an artistic medium vs. cinema as a distraction from daily menial drudgery. It also ponders the idea of where appreciation of art originates\, and how it may not be constrained by the boundaries of socioeconomic class. \nWinner – Best Director\, Actor and  Screenplay – Sipontum Arthouse Intl Film Festival 2022\nWinner – Best Film Bengaluru International Film Festival 2022\nWinner – Best Film Golden Royal Bengal Tiger\, Kolkata INternational Film Festival 2022\nWinner – The “Dare to Dream” award at the UK Film Festival (UKAFF) 2022
URL:https://www.thirdi.org/event/adieu-godard/
LOCATION:Castro Theatre\, 429 Castro Street\, San Francisco\, CA\, 94114\, United States
CATEGORIES:2022,festivals,films,Past Festival Screenings and Events
ATTACH;FMTTYPE=image/jpeg:https://www.thirdi.org/wp-content/uploads/2022/07/Adieu_Godard_Still01websize.jpg
END:VEVENT
BEGIN:VEVENT
DTSTART;TZID=America/Los_Angeles:20220924T150000
DTEND;TZID=America/Los_Angeles:20220924T150000
DTSTAMP:20260425T080952
CREATED:20220824T085143Z
LAST-MODIFIED:20230812T180710Z
UID:6248-1664031600-1664031600@www.thirdi.org
SUMMARY:SHANKAR’S FAIRIES
DESCRIPTION:See only at the Castro Theatre\, not available online.\nFilled with wonder and imagination\, Irfana Majumdar’s nostalgic and insightful period piece portrays a privileged family in Lucknow\, India in the 1960s. \nMajumdar’s feature debut delicately weaves together the personal and social lives of a wealthy family\, while simultaneously delving into the postcolonial era in which India is newly independent but still remains exploitative and bound by caste and class. \nShankar\, a village man with many skills\, is an indispensable servant in the house of a senior police officer. His master’s young daughter loves his magical stories about fairy tales\, and they share a close bond. Meanwhile\, Shankar’s own daughter falls seriously ill in his village while he is away. \nThese complexities in the narrative explore the structures of class\, caste\, inequality\, and social obligations. Loosely based on a story written by Majumdar’s mother\, Nita Kumar\, the narrative was filmed in the maternal family home. \nDirector Irfana has commented:\n“The countless moments of daily life shape our future. In our childhood\, we both witness injustice and experience wonder. The film asks: how do we reconcile with this? Who do we become? What do we remember?’’ \nGolden Leopard nominee\, Locarno International Film Festival\nGold Hugo nominee\, Chicago International Film Festival
URL:https://www.thirdi.org/event/shankars-fairies/
LOCATION:Castro Theatre\, 429 Castro Street\, San Francisco\, CA\, 94114\, United States
CATEGORIES:2022,festivals,films,Past Festival Screenings and Events
ATTACH;FMTTYPE=image/jpeg:https://www.thirdi.org/wp-content/uploads/2022/08/Anjana-peeksShankarsFairies.jpg
END:VEVENT
BEGIN:VEVENT
DTSTART;TZID=America/Los_Angeles:20220924T170000
DTEND;TZID=America/Los_Angeles:20220924T170000
DTSTAMP:20260425T080952
CREATED:20220824T085121Z
LAST-MODIFIED:20230812T180712Z
UID:6258-1664038800-1664038800@www.thirdi.org
SUMMARY:MUTINY: Asians Storm British Music
DESCRIPTION:See only at the Castro Theatre\, not available online.\nFilmmaker Vivek Bald in person for Q&A!\nIn a thrilling mix of live music performances\, candid interviews and rare archival footage\,  director Vivek Bald charts the meteoric rise of South Asian music in 1990’s Britain and the decades of cultural cross-pollination and political struggle that led up to that historic moment. The documentary features some of the greatest innovators and legendary artists in the South Asian British music scene of the 90s:  Asian Dub Foundation\, Talvin Singh\, State of Bengal\, Fun-Da-Mental\, Anjali\, DJ Ritu\, Joi\, Black Star Liner and many others. \nMutiny presents the story of a generation that grew up defining itself in an environment of racial violence\, while drawing strength from both British street culture and South Asian roots. Nearly every musician interviewed talks about experiencing anti-Asian racism while growing up. Bald shows how identification with England’s black population led them to embrace reggae and hip-hop in addition to Indian sounds like Bollywood soundtrack music\, bhangra\, and Indian classical music. This led to the Asian Underground movement of English rock in the 90s\, with artists mixing the influences of their parents’ cultures with electronica\, hip-hop\, reggae\, and punk that produced unique and powerful new sounds that have become some of the greatest contributions to British music. \n  \nAFTER PARTY\n9:30pm – 11:30pm\nCome to a special “After Party” of Asian Underground beats reminiscent of Mutiny & Dhamaal (Azaad) club events\, Global Hip Hop\, plus the latest flavors of the diaspora. \nPerformances by:\nNavdeep Music (Mutiny\, Anamika)\nSETI X\nManeesh the Twister (Surya Dub\, Dhamaal) soundcloud.com/surya-dub \nBissap Baobab Village\n243 Mission St\, SF (btwn 18th & 19th)\n9:30pm-11:30pm\nCall (415) 826-9287 for more details \n 
URL:https://www.thirdi.org/event/mutiny/
LOCATION:Castro Theatre\, 429 Castro Street\, San Francisco\, CA\, 94114\, United States
CATEGORIES:2022,festivals,films,Past Festival Screenings and Events
ATTACH;FMTTYPE=image/jpeg:https://www.thirdi.org/wp-content/uploads/2022/08/Mutiny_WebsiteImage.jpg
END:VEVENT
BEGIN:VEVENT
DTSTART;TZID=America/Los_Angeles:20220924T193000
DTEND;TZID=America/Los_Angeles:20220924T193000
DTSTAMP:20260425T080952
CREATED:20220811T065421Z
LAST-MODIFIED:20230812T180709Z
UID:6252-1664047800-1664047800@www.thirdi.org
SUMMARY:DIL BOLE HADIPPA
DESCRIPTION:See only at the Castro Theatre\, not available online.\nGet your Bollywood groove on with 3rd i’s Bollywood at the Castro! Enjoy a blockbuster classic with exuberance and camp on the BIG SCREEN – one of the most fun and popular events at the festival!  \nFans know Rani Mukherjee as one of the most beautiful\, dynamic women ever to grace a movie screen\, and a celebrated actor in Indian cinema. Featuring sparkling comic performances from both Mukherjee and her co-star Shahid Kapoor\, as well as dazzling song sequences\, this is a rousing\, fun-filled musical romance – with cricket\, too. \nMukherjee plays a feisty Punjabi woman who just happens to be a brilliant batsman. When the cocky Rohan (Kapoor) returns from overseas to take up coaching a national men’s cricket team\, she seeks a position in the lineup. There’s no place on his team for a girl. So\, in a conceit right out of Shakespeare\, she dons a beard and a turban to fulfill her dream of playing. \nFilled with the booty-shaking\, percussive joy of Punjabi music\, this is a full-on Bollywood masala movie\, never shy about deploying Mukherjee’s smoky hotness and the hunky cuteness of Kapoor. Right up to its fantastic closing number\, this movie bursts with vibrant\, firecracker charm.
URL:https://www.thirdi.org/event/dil-bole-hadippa/
LOCATION:Castro Theatre\, 429 Castro Street\, San Francisco\, CA\, 94114\, United States
CATEGORIES:2022,festivals,films,Past Festival Screenings and Events
ATTACH;FMTTYPE=image/jpeg:https://www.thirdi.org/wp-content/uploads/2022/08/myheart.jpg
END:VEVENT
BEGIN:VEVENT
DTSTART;TZID=America/Los_Angeles:20220925T130000
DTEND;TZID=America/Los_Angeles:20220925T130000
DTSTAMP:20260425T080952
CREATED:20220824T085059Z
LAST-MODIFIED:20230812T180700Z
UID:6269-1664110800-1664110800@www.thirdi.org
SUMMARY:IN SEARCH OF BENGALI HARLEM
DESCRIPTION:See only at the Roxie Theater\, not available online.\nFilmmakers Vivek Bald and Alaudin Ullah in person for Q&A!\nIn Search of Bengali Harlem is a transformative journey for Alaudin Ullah\, and for our understanding of the complex histories of South Asian Americans. \nAs a teenager in 1980s Harlem\, Alaudin Ullah was swept up in the revolutionary energy of early hip-hop. He rejected his working-class Bangladeshi parents and turned his back on everything South Asian and Muslim until he became an adult.  In Search of Bengali Harlem follows Ullah\, from the streets of New York City to the villages of Bangladesh to uncover the pasts of his father\, Habib\, and mother\, Mohima. He discovers that Habib was part of an extraordinary history of mid-20th century Harlem\, in which Bengali men\, dodging racist Asian Exclusion laws\, married into New York’s African American and Puerto Rican communities – and in which the likes of Malcolm X and Miles Davis shared space and broke bread with immigrants from the subcontinent.
URL:https://www.thirdi.org/event/in-search-of-bengali-harlem/
LOCATION:Roxie Theater\, 3117 16th Street\, San Francisco\, CA\, 94103\, United States
CATEGORIES:2022,festivals,films,Past Festival Screenings and Events
ATTACH;FMTTYPE=image/jpeg:https://www.thirdi.org/wp-content/uploads/2022/08/BengaliHarlemStill.jpg
END:VEVENT
BEGIN:VEVENT
DTSTART;TZID=America/Los_Angeles:20220925T151500
DTEND;TZID=America/Los_Angeles:20220925T151500
DTSTAMP:20260425T080952
CREATED:20220824T085012Z
LAST-MODIFIED:20230812T180658Z
UID:6264-1664118900-1664118900@www.thirdi.org
SUMMARY:ANIMAL
DESCRIPTION:See only at the Roxie Theater; not available online.\nCyril Dion’s insightful and transformative documentary takes a fresh look at the world’s ecological crises of climate change and the sixth mass extinction of wildlife\, through the eyes of two 16-year-old environmental activists\, Vipulan Puvaneswaran and Bella Lack. \nThrough the extraordinary investigative journey of teenagers Vipulan\, of Sri Lankan descent from France\, and of Bella\, from England\, we learn from scientists and activists what is being done around the world to attempt to reverse mass extinction\, revealing a quest for another way of living alongside other species\, as co-habitants rather than predators. \nThe young activists take us to the source of the problem\, which is hopefully the solution\, too: our relationship to the living world. Through their confrontation of this reality\, we become more deeply aware of how we are linked to all other species\, and that by saving them\, we also save ourselves\, providing the possibility of a brighter future. As Dion explains\, “The human being believed that he could separate himself from nature\, but he is nature. He too is an Animal.” \nGolden Eye nominee\, Cannes Film Festival 2021\nYouth Jury Prize winner\, International French Film Festival of Namur 2021
URL:https://www.thirdi.org/event/animal/
LOCATION:Roxie Theater\, 3117 16th Street\, San Francisco\, CA\, 94103\, United States
CATEGORIES:2022,festivals,films,Past Festival Screenings and Events
ATTACH;FMTTYPE=image/jpeg:https://www.thirdi.org/wp-content/uploads/2022/08/AnimalFilmStilleditWebsize-scaled.jpg
END:VEVENT
BEGIN:VEVENT
DTSTART;TZID=America/Los_Angeles:20220925T173000
DTEND;TZID=America/Los_Angeles:20220925T173000
DTSTAMP:20260425T080952
CREATED:20220824T085035Z
LAST-MODIFIED:20230812T180654Z
UID:6266-1664127000-1664127000@www.thirdi.org
SUMMARY:COAST TO COAST: MUMBAI TO THE MISSION
DESCRIPTION:See only at the Roxie Theater\, not available online.\nFilmmakers Hena Ashraf\,  Naman Gupta and Faroukh Virani in person!\n3rd i’s signature shorts program brings filmmakers into conversation together from South Asia to California and throughout the Diaspora. With short-form documentaries to dramatic narratives and genres ranging from comedy to animation\, this year’s edition tackles stories of relationships\, identity\, LGBTQ+ and social justice.  Be warned\, there’s a fair amount of humor! \n \nTomorrow My Love\, Gitanjali Rao (India\, 2021\, 4 min)\nWith artful simplicity\, exquisite hand drawn animation and her signature warmth\, 3rd i Festival alum Gitanjali Rao (Bombay Rose)\, pays homage to love in this exquisite ballad about touching the heart without being able to touch. \nDimanche Matin\,  Vinnie Bose (India\, 2019\, 4 min)\nEvery Sunday morning\, Ann\, a 7- year-old Indian girl\, is forced to wake up early to go to church with her family. But this Sunday\, mass ends up being a lot more eventful than expected. \nThe Return\, Hena Ashraf (USA\, 2021\, 18 min)\nA writer-director struggles with her profound sense of loss after the sudden death of her father\, who dies while visiting his homeland of India. Hena wrestles with coming to terms with their strained relationship\, by the only way she knows how: making a film. \nBrown Elephant\, Fawzia Mirza (Pakistan/ Canada\, 2022\, 3 min)\nHilarity ensues when a young Muslim woman and her family discuss a peacekeeping solution for their overly aggressive “White Elephant” gift exchange. \nSubscribe/Follow\, Faroukh Virani (USA\, 2022\, 15 min)\nA social media influencer code-switches his platform\, but gets challenged by his peers when they find faults in his messaging. \nCoffee Shop Names\, Deepak Sethi (USA\, 2020\, 8 min)\nIn this smart and funny short feature about identity and cultural awareness\, three Indian friends on their regular coffee break discuss what their “coffee shop names” are and their made-up personas behind them. \nAuntie\, Fawzia Mirza (Pakistan/Canada\, 2022\, 7 min)\nA day after meeting a crew of 20-somethings at a South Asian happy hour\, 39-year-old Hena is thrown into their group text. \nComing Out With The Help Of A Time Machine\, Naman Gupta (USA\, 2021\, 15 min)\nWhen coming out to his traditional Indian parents\, Sid uses his time machine to reset the day in an attempt to make sure everything goes perfectly.  \n 
URL:https://www.thirdi.org/event/coast-to-coast-mumbai-to-the-mission-7/
LOCATION:Roxie Theater\, 3117 16th Street\, San Francisco\, CA\, 94103\, United States
CATEGORIES:2022,festivals,films,Past Festival Screenings and Events
ATTACH;FMTTYPE=image/jpeg:https://www.thirdi.org/wp-content/uploads/2022/08/Coast2Coastwebsize_crop2.jpg
END:VEVENT
END:VCALENDAR