BEGIN:VCALENDAR
VERSION:2.0
PRODID:-//3rd i - ECPv6.15.17//NONSGML v1.0//EN
CALSCALE:GREGORIAN
METHOD:PUBLISH
X-WR-CALNAME:3rd i
X-ORIGINAL-URL:https://www.thirdi.org
X-WR-CALDESC:Events for 3rd i
REFRESH-INTERVAL;VALUE=DURATION:PT1H
X-Robots-Tag:noindex
X-PUBLISHED-TTL:PT1H
BEGIN:VTIMEZONE
TZID:America/Los_Angeles
BEGIN:DAYLIGHT
TZOFFSETFROM:-0800
TZOFFSETTO:-0700
TZNAME:PDT
DTSTART:20110313T100000
END:DAYLIGHT
BEGIN:STANDARD
TZOFFSETFROM:-0700
TZOFFSETTO:-0800
TZNAME:PST
DTSTART:20111106T090000
END:STANDARD
BEGIN:DAYLIGHT
TZOFFSETFROM:-0800
TZOFFSETTO:-0700
TZNAME:PDT
DTSTART:20120311T100000
END:DAYLIGHT
BEGIN:STANDARD
TZOFFSETFROM:-0700
TZOFFSETTO:-0800
TZNAME:PST
DTSTART:20121104T090000
END:STANDARD
BEGIN:DAYLIGHT
TZOFFSETFROM:-0800
TZOFFSETTO:-0700
TZNAME:PDT
DTSTART:20130310T100000
END:DAYLIGHT
BEGIN:STANDARD
TZOFFSETFROM:-0700
TZOFFSETTO:-0800
TZNAME:PST
DTSTART:20131103T090000
END:STANDARD
END:VTIMEZONE
BEGIN:VEVENT
DTSTART;TZID=America/Los_Angeles:20120919T191500
DTEND;TZID=America/Los_Angeles:20120919T211500
DTSTAMP:20260420T210250
CREATED:20130720T003058Z
LAST-MODIFIED:20130720T003144Z
UID:1528-1348082100-1348089300@www.thirdi.org
SUMMARY:The Island President
DESCRIPTION:Watch Trailer\nAn inspiring\, pictorially dazzling documentary from one of the Bay Area’s most exciting filmmakers! Jon Shenk’s The Island President is the story of President Mohamed Nasheed of the Maldives\, a man confronting a problem greater than any other world leader has ever faced—the literal survival of his country and everyone in it. After bringing democracy to the Maldives after thirty years of despotic rule\, Nasheed is now faced with an even greater challenge: as one of the most low-lying countries in the world\, a rise of three feet in sea level would submerge the 1200 islands of the Maldives enough to make them uninhabitable. The film follows Nasheed during his first year in office\, culminating with a stirring speech given at the Copenhagen Climate Summit in 2009. Just this February\, Nasheed was forced out of office in a coup d’etat\, lending this film an unusual timeliness and poignancy.
URL:https://www.thirdi.org/event/the-island-president-2/
LOCATION:Roxie Theater\, 94103
CATEGORIES:2012,festivals,films
ATTACH;FMTTYPE=image/jpeg:https://www.thirdi.org/wp-content/uploads/2013/05/theislandpresident-photo3WEB-700x288.jpg
END:VEVENT
END:VCALENDAR