BEGIN:VCALENDAR
VERSION:2.0
PRODID:-//3rd i - ECPv6.15.17//NONSGML v1.0//EN
CALSCALE:GREGORIAN
METHOD:PUBLISH
X-WR-CALNAME:3rd i
X-ORIGINAL-URL:https://www.thirdi.org
X-WR-CALDESC:Events for 3rd i
REFRESH-INTERVAL;VALUE=DURATION:PT1H
X-Robots-Tag:noindex
X-PUBLISHED-TTL:PT1H
BEGIN:VTIMEZONE
TZID:America/Los_Angeles
BEGIN:DAYLIGHT
TZOFFSETFROM:-0800
TZOFFSETTO:-0700
TZNAME:PDT
DTSTART:20210314T100000
END:DAYLIGHT
BEGIN:STANDARD
TZOFFSETFROM:-0700
TZOFFSETTO:-0800
TZNAME:PST
DTSTART:20211107T090000
END:STANDARD
BEGIN:DAYLIGHT
TZOFFSETFROM:-0800
TZOFFSETTO:-0700
TZNAME:PDT
DTSTART:20220313T100000
END:DAYLIGHT
BEGIN:STANDARD
TZOFFSETFROM:-0700
TZOFFSETTO:-0800
TZNAME:PST
DTSTART:20221106T090000
END:STANDARD
BEGIN:DAYLIGHT
TZOFFSETFROM:-0800
TZOFFSETTO:-0700
TZNAME:PDT
DTSTART:20230312T100000
END:DAYLIGHT
BEGIN:STANDARD
TZOFFSETFROM:-0700
TZOFFSETTO:-0800
TZNAME:PST
DTSTART:20231105T090000
END:STANDARD
END:VTIMEZONE
BEGIN:VEVENT
DTSTART;TZID=America/Los_Angeles:20220407T180000
DTEND;TZID=America/Los_Angeles:20220407T190000
DTSTAMP:20260422T024157
CREATED:20220304T020057Z
LAST-MODIFIED:20230502T053926Z
UID:6082-1649354400-1649358000@www.thirdi.org
SUMMARY:A special talk by Robin Sukhadia
DESCRIPTION:3rd i Presents\nA special talk by Robin Sukhadia on the healing power of tabla\, with a live sound meditation\nFree live workshop via Zoom\nLimited seats available\nRegister at: 3rditickets@gmail.com\n\nSupported in part by the California Arts Council \nIn this special and unique workshop focused on the tabla\, Fulbright scholar\, musician/composer and 3rd i alum\, Robin Sukhadia\, will share the history of raga (melody) and tala (rhythm) on the subcontinent of India. He will also present a live tabla sound meditation to give context to the effect tabla can have on bringing peace to the body and mind. \nThe convergence of Persian/Islamic and Hindu cultures over centuries of time has produced a musical tradition that is full of healing power. While these cultures are in some ways diametrically opposed\, they align on the importance of sound and vibration and their connection to the body and to cosmology. Listeners and practitioners today are drawn to this healing power\, as Hindustani Classical continues to mesmerize listeners the world over. The primary rhythmic instrument of Hindustani classical music\, the tabla\, holds a special role in grounding and propelling the energy of ragas (melodic scale explorations)\, which are designed to provoke introspection and uplift the spirits of the listener. \nA Spotify playlist has been curated by Robin to accompany the workshop. \nA Master in Fine Arts graduate from the World Music program at the California Institute of the Arts\, Robin Sukhadia studies tabla (classical north Indian drums) under Pandit Swapan Chaudhuri at the California Institute of the Arts and the Ali Akbar College of Music in San Rafael\, California. His special focus on the musical traditions and rhythms of south Asia informs his approach to musical arrangement and composition on a wide range of concert\, film\, and album productions. (tablapusher.com) Robin has traveled internationally on behalf of Project Ahimsa\, an organization committed to empowering impoverished youth through music education. He performs and teaches extensively\, in both classical and contemporary contexts\, and has developed innovative music education programs at the Mahatma Gandhi Ashram in Ahmedabad\, the Weill Institute at Carnegie Hall\, the Los Angeles County Museum of Art\, the Hammer Museum in Los Angeles\, the de Young Museum in San Francisco\, the Asian Art Museum in San Francisco\, the Machine Project in Los Angeles and the Sangati Center in San Francisco. \n 
URL:https://www.thirdi.org/event/workshop-with-robin-sukhadia/
LOCATION:Zoom from your own device
CATEGORIES:Past Festival Screenings and Events,Screenings and Events,Year-Round Screenings and Events
ATTACH;FMTTYPE=image/jpeg:https://www.thirdi.org/wp-content/uploads/2022/03/robinSukhadiaBWmed.jpg
END:VEVENT
END:VCALENDAR