BEGIN:VCALENDAR
VERSION:2.0
PRODID:-//3rd i - ECPv6.15.17//NONSGML v1.0//EN
CALSCALE:GREGORIAN
METHOD:PUBLISH
X-WR-CALNAME:3rd i
X-ORIGINAL-URL:https://www.thirdi.org
X-WR-CALDESC:Events for 3rd i
REFRESH-INTERVAL;VALUE=DURATION:PT1H
X-Robots-Tag:noindex
X-PUBLISHED-TTL:PT1H
BEGIN:VTIMEZONE
TZID:America/Los_Angeles
BEGIN:DAYLIGHT
TZOFFSETFROM:-0800
TZOFFSETTO:-0700
TZNAME:PDT
DTSTART:20150308T100000
END:DAYLIGHT
BEGIN:STANDARD
TZOFFSETFROM:-0700
TZOFFSETTO:-0800
TZNAME:PST
DTSTART:20151101T090000
END:STANDARD
BEGIN:DAYLIGHT
TZOFFSETFROM:-0800
TZOFFSETTO:-0700
TZNAME:PDT
DTSTART:20160313T100000
END:DAYLIGHT
BEGIN:STANDARD
TZOFFSETFROM:-0700
TZOFFSETTO:-0800
TZNAME:PST
DTSTART:20161106T090000
END:STANDARD
BEGIN:DAYLIGHT
TZOFFSETFROM:-0800
TZOFFSETTO:-0700
TZNAME:PDT
DTSTART:20170312T100000
END:DAYLIGHT
BEGIN:STANDARD
TZOFFSETFROM:-0700
TZOFFSETTO:-0800
TZNAME:PST
DTSTART:20171105T090000
END:STANDARD
END:VTIMEZONE
BEGIN:VEVENT
DTSTART;TZID=America/Los_Angeles:20161112T200000
DTEND;TZID=America/Los_Angeles:20161112T200000
DTSTAMP:20260425T104600
CREATED:20161026T171650Z
LAST-MODIFIED:20161104T180858Z
UID:3769-1478980800-1478980800@www.thirdi.org
SUMMARY:3rd i's Castro Reception
DESCRIPTION:When: Saturday Nov 12\, 8pm\nWhere: Castro Theater Mezzanine\nTickets: $20 at the door\, or Become a Sponsor \nJoin us for a special reception at the Castro Mezzanine\, and meet all the festival filmmakers up close and personal! Enjoy desserts and drinks\, get your photograph taken with our celebrity guests and get your feet wet for Parched. \nFestival Guests include: Director Shilpa Ranade and Musician Narayan Parasuram from The World of Goopi and Bagha; Director Sami Khan and Actor Rupak Ginn from Khoya; Director Harune Massey from Gardaab/Whirlpool; and California filmmakers Kimberly Hwang\, Abhi Singh and Pallavi Somusetty featured in the shorts program Coast to Coast. \nSpecial Thanks to our Reception Sponsors\nDiya TV\nKasa Indian Eatery\nTrader Joe’s\nWhole Foods\nLagunitas\nRossi & Rovetti
URL:https://www.thirdi.org/event/3rd-is-castro-reception-3/
LOCATION:Castro Theatre\, 429 Castro Street\, San Francisco\, CA\, 94114\, United States
CATEGORIES:2016,events,festivals,Screenings and Events
ATTACH;FMTTYPE=image/jpeg:https://www.thirdi.org/wp-content/uploads/2013/05/WineGlasses-700x288.jpg
END:VEVENT
END:VCALENDAR