BEGIN:VCALENDAR
VERSION:2.0
PRODID:-//3rd i - ECPv6.15.17//NONSGML v1.0//EN
CALSCALE:GREGORIAN
METHOD:PUBLISH
X-WR-CALNAME:3rd i
X-ORIGINAL-URL:https://www.thirdi.org
X-WR-CALDESC:Events for 3rd i
REFRESH-INTERVAL;VALUE=DURATION:PT1H
X-Robots-Tag:noindex
X-PUBLISHED-TTL:PT1H
BEGIN:VTIMEZONE
TZID:America/Los_Angeles
BEGIN:DAYLIGHT
TZOFFSETFROM:-0800
TZOFFSETTO:-0700
TZNAME:PDT
DTSTART:20220313T100000
END:DAYLIGHT
BEGIN:STANDARD
TZOFFSETFROM:-0700
TZOFFSETTO:-0800
TZNAME:PST
DTSTART:20221106T090000
END:STANDARD
BEGIN:DAYLIGHT
TZOFFSETFROM:-0800
TZOFFSETTO:-0700
TZNAME:PDT
DTSTART:20230312T100000
END:DAYLIGHT
BEGIN:STANDARD
TZOFFSETFROM:-0700
TZOFFSETTO:-0800
TZNAME:PST
DTSTART:20231105T090000
END:STANDARD
BEGIN:DAYLIGHT
TZOFFSETFROM:-0800
TZOFFSETTO:-0700
TZNAME:PDT
DTSTART:20240310T100000
END:DAYLIGHT
BEGIN:STANDARD
TZOFFSETFROM:-0700
TZOFFSETTO:-0800
TZNAME:PST
DTSTART:20241103T090000
END:STANDARD
END:VTIMEZONE
BEGIN:VEVENT
DTSTART;TZID=America/Los_Angeles:20231020T191500
DTEND;TZID=America/Los_Angeles:20231022T200000
DTSTAMP:20260419T203950
CREATED:20230919T070329Z
LAST-MODIFIED:20230919T070549Z
UID:6675-1697829300-1698004800@www.thirdi.org
SUMMARY:San Francisco International South Asian Film Festival 2023
DESCRIPTION:Join us for 3rd i’s 21st Annual San Francisco International South Asian Film Festival\, October 20-22 at the Roxie Theater in San Francisco\, with special guests celebrating 21 years of community and diversity! \nView the schedule of films here.
URL:https://www.thirdi.org/event/san-francisco-international-south-asian-film-festival-2023/
LOCATION:Roxie Theater\, 3117 16th Street\, San Francisco\, CA\, 94103\, United States
CATEGORIES:Screenings and Events,Year-Round Screenings and Events
ATTACH;FMTTYPE=image/jpeg:https://www.thirdi.org/wp-content/uploads/2023/09/SFISAFF2023_slider_d2.jpg
END:VEVENT
END:VCALENDAR